BEGIN:VCALENDAR
VERSION:2.0
PRODID:-//Heavenbound Baptist Church - ECPv6.15.20//NONSGML v1.0//EN
CALSCALE:GREGORIAN
METHOD:PUBLISH
X-WR-CALNAME:Heavenbound Baptist Church
X-ORIGINAL-URL:https://heavenboundbaptistchurch.com
X-WR-CALDESC:Events for Heavenbound Baptist Church
REFRESH-INTERVAL;VALUE=DURATION:PT1H
X-Robots-Tag:noindex
X-PUBLISHED-TTL:PT1H
BEGIN:VTIMEZONE
TZID:UTC
BEGIN:STANDARD
TZOFFSETFROM:+0000
TZOFFSETTO:+0000
TZNAME:UTC
DTSTART:20250101T000000
END:STANDARD
END:VTIMEZONE
BEGIN:VEVENT
DTSTART;TZID=UTC:20260107T180000
DTEND;TZID=UTC:20260107T200000
DTSTAMP:20260424T205512
CREATED:20260107T204115Z
LAST-MODIFIED:20260107T204115Z
UID:2075-1767808800-1767816000@heavenboundbaptistchurch.com
SUMMARY:Potluck/Bible Study
DESCRIPTION:
URL:https://heavenboundbaptistchurch.com/event/potluck-bible-study-18/
END:VEVENT
BEGIN:VEVENT
DTSTART;TZID=UTC:20260110T170000
DTEND;TZID=UTC:20260110T180000
DTSTAMP:20260424T205512
CREATED:20260107T204214Z
LAST-MODIFIED:20260107T204214Z
UID:2077-1768064400-1768068000@heavenboundbaptistchurch.com
SUMMARY:Trail Life Open House
DESCRIPTION:
URL:https://heavenboundbaptistchurch.com/event/trail-life-open-house/
END:VEVENT
BEGIN:VEVENT
DTSTART;TZID=UTC:20260111T093000
DTEND;TZID=UTC:20260111T103000
DTSTAMP:20260424T205512
CREATED:20260107T203836Z
LAST-MODIFIED:20260107T203836Z
UID:2073-1768123800-1768127400@heavenboundbaptistchurch.com
SUMMARY:Small Groups and Doughtnuts
DESCRIPTION:
URL:https://heavenboundbaptistchurch.com/event/small-groups-and-doughtnuts/
END:VEVENT
BEGIN:VEVENT
DTSTART;TZID=UTC:20260111T110000
DTEND;TZID=UTC:20260111T120000
DTSTAMP:20260424T205512
CREATED:20260107T203743Z
LAST-MODIFIED:20260107T203743Z
UID:2071-1768129200-1768132800@heavenboundbaptistchurch.com
SUMMARY:Sunday Worship
DESCRIPTION:
URL:https://heavenboundbaptistchurch.com/event/sunday-worship-16/
LOCATION:Heavenbound Baptist Church
END:VEVENT
BEGIN:VEVENT
DTSTART;TZID=UTC:20260114T180000
DTEND;TZID=UTC:20260114T200000
DTSTAMP:20260424T205512
CREATED:20260114T165437Z
LAST-MODIFIED:20260114T165437Z
UID:2083-1768413600-1768420800@heavenboundbaptistchurch.com
SUMMARY:Potluck/Bible Study
DESCRIPTION:
URL:https://heavenboundbaptistchurch.com/event/potluck-bible-study-19/
END:VEVENT
BEGIN:VEVENT
DTSTART;TZID=UTC:20260118T093000
DTEND;TZID=UTC:20260118T103000
DTSTAMP:20260424T205512
CREATED:20260114T165548Z
LAST-MODIFIED:20260114T165647Z
UID:2087-1768728600-1768732200@heavenboundbaptistchurch.com
SUMMARY:Doughnuts/Coffee/Small Groups
DESCRIPTION:
URL:https://heavenboundbaptistchurch.com/event/potluck-bible-study-21/
END:VEVENT
BEGIN:VEVENT
DTSTART;TZID=UTC:20260118T110000
DTEND;TZID=UTC:20260118T120000
DTSTAMP:20260424T205512
CREATED:20260114T165244Z
LAST-MODIFIED:20260114T165244Z
UID:2079-1768734000-1768737600@heavenboundbaptistchurch.com
SUMMARY:Sunday Worship
DESCRIPTION:
URL:https://heavenboundbaptistchurch.com/event/sunday-worship-15/
END:VEVENT
BEGIN:VEVENT
DTSTART;TZID=UTC:20260119T180000
DTEND;TZID=UTC:20260119T190000
DTSTAMP:20260424T205512
CREATED:20260114T165903Z
LAST-MODIFIED:20260114T165903Z
UID:2092-1768845600-1768849200@heavenboundbaptistchurch.com
SUMMARY:Trail Life Meeting Troop KY2913
DESCRIPTION:
URL:https://heavenboundbaptistchurch.com/event/trail-life-meeting-troop-ky2913/
END:VEVENT
BEGIN:VEVENT
DTSTART;TZID=UTC:20260121T180000
DTEND;TZID=UTC:20260121T200000
DTSTAMP:20260424T205512
CREATED:20260114T165517Z
LAST-MODIFIED:20260114T165517Z
UID:2085-1769018400-1769025600@heavenboundbaptistchurch.com
SUMMARY:Potluck/Bible Study
DESCRIPTION:
URL:https://heavenboundbaptistchurch.com/event/potluck-bible-study-20/
END:VEVENT
BEGIN:VEVENT
DTSTART;TZID=UTC:20260125T093000
DTEND;TZID=UTC:20260125T103000
DTSTAMP:20260424T205512
CREATED:20260114T165726Z
LAST-MODIFIED:20260114T165726Z
UID:2090-1769333400-1769337000@heavenboundbaptistchurch.com
SUMMARY:Doughnuts/Coffee/Small Groups
DESCRIPTION:
URL:https://heavenboundbaptistchurch.com/event/doughnuts-coffee-small-groups/
END:VEVENT
BEGIN:VEVENT
DTSTART;TZID=UTC:20260125T110000
DTEND;TZID=UTC:20260125T120000
DTSTAMP:20260424T205512
CREATED:20260114T165325Z
LAST-MODIFIED:20260114T165325Z
UID:2081-1769338800-1769342400@heavenboundbaptistchurch.com
SUMMARY:Sunday Worship
DESCRIPTION:
URL:https://heavenboundbaptistchurch.com/event/sunday-worship-17/
END:VEVENT
BEGIN:VEVENT
DTSTART;TZID=UTC:20260126T180000
DTEND;TZID=UTC:20260126T190000
DTSTAMP:20260424T205512
CREATED:20260114T165940Z
LAST-MODIFIED:20260114T165940Z
UID:2094-1769450400-1769454000@heavenboundbaptistchurch.com
SUMMARY:Trail Life Meeting Troop KY2913
DESCRIPTION:
URL:https://heavenboundbaptistchurch.com/event/trail-life-meeting-troop-ky2913-2/
END:VEVENT
BEGIN:VEVENT
DTSTART;TZID=UTC:20260128T180000
DTEND;TZID=UTC:20260128T200000
DTSTAMP:20260424T205512
CREATED:20260114T170145Z
LAST-MODIFIED:20260114T170145Z
UID:2098-1769623200-1769630400@heavenboundbaptistchurch.com
SUMMARY:Potluck/Bible Study
DESCRIPTION:
URL:https://heavenboundbaptistchurch.com/event/potluck-bible-study-22/
END:VEVENT
BEGIN:VEVENT
DTSTART;TZID=UTC:20260131T093000
DTEND;TZID=UTC:20260131T110000
DTSTAMP:20260424T205512
CREATED:20260114T170042Z
LAST-MODIFIED:20260114T170042Z
UID:2096-1769851800-1769857200@heavenboundbaptistchurch.com
SUMMARY:Men's Ministry Breakfast at Central Valley Feeding the Homeless
DESCRIPTION:
URL:https://heavenboundbaptistchurch.com/event/mens-ministry-breakfast-at-central-valley-feeding-the-homeless/
END:VEVENT
END:VCALENDAR