BEGIN:VCALENDAR
VERSION:2.0
PRODID:-//Heavenbound Baptist Church - ECPv6.15.20//NONSGML v1.0//EN
CALSCALE:GREGORIAN
METHOD:PUBLISH
X-ORIGINAL-URL:https://heavenboundbaptistchurch.com
X-WR-CALDESC:Events for Heavenbound Baptist Church
REFRESH-INTERVAL;VALUE=DURATION:PT1H
X-Robots-Tag:noindex
X-PUBLISHED-TTL:PT1H
BEGIN:VTIMEZONE
TZID:UTC
BEGIN:STANDARD
TZOFFSETFROM:+0000
TZOFFSETTO:+0000
TZNAME:UTC
DTSTART:20240101T000000
END:STANDARD
END:VTIMEZONE
BEGIN:VEVENT
DTSTART;TZID=UTC:20250401T180000
DTEND;TZID=UTC:20250401T190000
DTSTAMP:20260425T134242
CREATED:20250221T012244Z
LAST-MODIFIED:20250221T012244Z
UID:2012-1743530400-1743534000@heavenboundbaptistchurch.com
SUMMARY:Deacon Meeting
DESCRIPTION:
URL:https://heavenboundbaptistchurch.com/event/deacon-meeting-6/
END:VEVENT
BEGIN:VEVENT
DTSTART;TZID=UTC:20250402T180000
DTEND;TZID=UTC:20250402T193000
DTSTAMP:20260425T134242
CREATED:20250221T011452Z
LAST-MODIFIED:20250221T011452Z
UID:1996-1743616800-1743622200@heavenboundbaptistchurch.com
SUMMARY:Potluck/Bible Study
DESCRIPTION:
URL:https://heavenboundbaptistchurch.com/event/potluck-bible-study-16/
END:VEVENT
BEGIN:VEVENT
DTSTART;TZID=UTC:20250402T180000
DTEND;TZID=UTC:20250402T193000
DTSTAMP:20260425T134242
CREATED:20250221T013502Z
LAST-MODIFIED:20250221T013502Z
UID:2040-1743616800-1743622200@heavenboundbaptistchurch.com
SUMMARY:Potluck/Bible Study
DESCRIPTION:
URL:https://heavenboundbaptistchurch.com/event/potluck-bible-study-12/
END:VEVENT
BEGIN:VEVENT
DTSTART;TZID=UTC:20250404T180000
DTEND;TZID=UTC:20250406T200000
DTSTAMP:20260425T134242
CREATED:20250221T012403Z
LAST-MODIFIED:20250221T012403Z
UID:2014-1743789600-1743969600@heavenboundbaptistchurch.com
SUMMARY:Nights of Worship
DESCRIPTION:
URL:https://heavenboundbaptistchurch.com/event/nights-of-worship/
END:VEVENT
BEGIN:VEVENT
DTSTART;TZID=UTC:20250406T093000
DTEND;TZID=UTC:20250406T103000
DTSTAMP:20260425T134242
CREATED:20250221T013001Z
LAST-MODIFIED:20250221T013001Z
UID:2026-1743931800-1743935400@heavenboundbaptistchurch.com
SUMMARY:Doughnuts and Small Groups
DESCRIPTION:
URL:https://heavenboundbaptistchurch.com/event/doughnuts-and-small-groups-16/
END:VEVENT
BEGIN:VEVENT
DTSTART;TZID=UTC:20250406T110000
DTEND;TZID=UTC:20250406T120000
DTSTAMP:20260425T134242
CREATED:20250221T013254Z
LAST-MODIFIED:20250221T013254Z
UID:2034-1743937200-1743940800@heavenboundbaptistchurch.com
SUMMARY:Morning Worship
DESCRIPTION:
URL:https://heavenboundbaptistchurch.com/event/morning-worship-6/
END:VEVENT
BEGIN:VEVENT
DTSTART;TZID=UTC:20250406T120000
DTEND;TZID=UTC:20250406T123000
DTSTAMP:20260425T134242
CREATED:20250221T012535Z
LAST-MODIFIED:20250221T012535Z
UID:2016-1743940800-1743942600@heavenboundbaptistchurch.com
SUMMARY:Church Council
DESCRIPTION:
URL:https://heavenboundbaptistchurch.com/event/church-council-6/
END:VEVENT
BEGIN:VEVENT
DTSTART;TZID=UTC:20250409T180000
DTEND;TZID=UTC:20250409T190000
DTSTAMP:20260425T134242
CREATED:20250221T013545Z
LAST-MODIFIED:20250221T013545Z
UID:2042-1744221600-1744225200@heavenboundbaptistchurch.com
SUMMARY:Potluck/Bible Study
DESCRIPTION:
URL:https://heavenboundbaptistchurch.com/event/potluck-bible-study-17/
END:VEVENT
BEGIN:VEVENT
DTSTART;TZID=UTC:20250412T120000
DTEND;TZID=UTC:20250412T140000
DTSTAMP:20260425T134242
CREATED:20250221T012629Z
LAST-MODIFIED:20250221T012629Z
UID:2018-1744459200-1744466400@heavenboundbaptistchurch.com
SUMMARY:Easter Egg Hunt
DESCRIPTION:
URL:https://heavenboundbaptistchurch.com/event/easter-egg-hunt/
END:VEVENT
BEGIN:VEVENT
DTSTART;TZID=UTC:20250413T093000
DTEND;TZID=UTC:20250413T103000
DTSTAMP:20260425T134242
CREATED:20250221T013046Z
LAST-MODIFIED:20250221T013046Z
UID:2028-1744536600-1744540200@heavenboundbaptistchurch.com
SUMMARY:Doughnuts and Small Groups
DESCRIPTION:
URL:https://heavenboundbaptistchurch.com/event/doughnuts-and-small-groups-17/
END:VEVENT
BEGIN:VEVENT
DTSTART;TZID=UTC:20250413T110000
DTEND;TZID=UTC:20250413T120000
DTSTAMP:20260425T134242
CREATED:20250221T013321Z
LAST-MODIFIED:20250221T013321Z
UID:2036-1744542000-1744545600@heavenboundbaptistchurch.com
SUMMARY:Morning Worship
DESCRIPTION:
URL:https://heavenboundbaptistchurch.com/event/morning-worship-7/
END:VEVENT
BEGIN:VEVENT
DTSTART;TZID=UTC:20250417T180000
DTEND;TZID=UTC:20250417T190000
DTSTAMP:20260425T134242
CREATED:20250221T012728Z
LAST-MODIFIED:20250221T012728Z
UID:2020-1744912800-1744916400@heavenboundbaptistchurch.com
SUMMARY:Maundy Thursday Service
DESCRIPTION:
URL:https://heavenboundbaptistchurch.com/event/maundy-thursday-service/
END:VEVENT
BEGIN:VEVENT
DTSTART;TZID=UTC:20250418T180000
DTEND;TZID=UTC:20250418T190000
DTSTAMP:20260425T134242
CREATED:20250221T012759Z
LAST-MODIFIED:20250221T012759Z
UID:2022-1744999200-1745002800@heavenboundbaptistchurch.com
SUMMARY:Good Friday Service
DESCRIPTION:
URL:https://heavenboundbaptistchurch.com/event/good-friday-service/
END:VEVENT
BEGIN:VEVENT
DTSTART;TZID=UTC:20250420T093000
DTEND;TZID=UTC:20250420T103000
DTSTAMP:20260425T134242
CREATED:20250221T013116Z
LAST-MODIFIED:20250221T013116Z
UID:2030-1745141400-1745145000@heavenboundbaptistchurch.com
SUMMARY:Doughnuts and Small Groups
DESCRIPTION:
URL:https://heavenboundbaptistchurch.com/event/doughnuts-and-small-groups-18/
END:VEVENT
BEGIN:VEVENT
DTSTART;TZID=UTC:20250420T110000
DTEND;TZID=UTC:20250420T120000
DTSTAMP:20260425T134242
CREATED:20250221T012850Z
LAST-MODIFIED:20250221T012850Z
UID:2024-1745146800-1745150400@heavenboundbaptistchurch.com
SUMMARY:Resurrection Sunday Service
DESCRIPTION:
URL:https://heavenboundbaptistchurch.com/event/resurrection-sunday-service/
END:VEVENT
BEGIN:VEVENT
DTSTART;TZID=UTC:20250427T093000
DTEND;TZID=UTC:20250427T103000
DTSTAMP:20260425T134242
CREATED:20250221T013140Z
LAST-MODIFIED:20250221T013140Z
UID:2032-1745746200-1745749800@heavenboundbaptistchurch.com
SUMMARY:Doughnuts and Small Groups
DESCRIPTION:
URL:https://heavenboundbaptistchurch.com/event/doughnuts-and-small-groups-19/
END:VEVENT
BEGIN:VEVENT
DTSTART;TZID=UTC:20250427T110000
DTEND;TZID=UTC:20250427T120000
DTSTAMP:20260425T134242
CREATED:20250221T013349Z
LAST-MODIFIED:20250221T013349Z
UID:2038-1745751600-1745755200@heavenboundbaptistchurch.com
SUMMARY:Morning Worship
DESCRIPTION:
URL:https://heavenboundbaptistchurch.com/event/morning-worship-8/
END:VEVENT
END:VCALENDAR