BEGIN:VCALENDAR
VERSION:2.0
PRODID:-//Heavenbound Baptist Church - ECPv6.15.20//NONSGML v1.0//EN
CALSCALE:GREGORIAN
METHOD:PUBLISH
X-WR-CALNAME:Heavenbound Baptist Church
X-ORIGINAL-URL:https://heavenboundbaptistchurch.com
X-WR-CALDESC:Events for Heavenbound Baptist Church
REFRESH-INTERVAL;VALUE=DURATION:PT1H
X-Robots-Tag:noindex
X-PUBLISHED-TTL:PT1H
BEGIN:VTIMEZONE
TZID:UTC
BEGIN:STANDARD
TZOFFSETFROM:+0000
TZOFFSETTO:+0000
TZNAME:UTC
DTSTART:20240101T000000
END:STANDARD
END:VTIMEZONE
BEGIN:VEVENT
DTSTART;TZID=UTC:20250223T093000
DTEND;TZID=UTC:20250223T103000
DTSTAMP:20260425T173617
CREATED:20250221T010124Z
LAST-MODIFIED:20250221T010124Z
UID:1962-1740303000-1740306600@heavenboundbaptistchurch.com
SUMMARY:Doughnuts and Small Groups
DESCRIPTION:
URL:https://heavenboundbaptistchurch.com/event/doughnuts-and-small-groups-10/
END:VEVENT
BEGIN:VEVENT
DTSTART;TZID=UTC:20250223T110000
DTEND;TZID=UTC:20250223T120000
DTSTAMP:20260425T173617
CREATED:20250221T005939Z
LAST-MODIFIED:20250221T005939Z
UID:1960-1740308400-1740312000@heavenboundbaptistchurch.com
SUMMARY:Worship Service
DESCRIPTION:
URL:https://heavenboundbaptistchurch.com/event/worship-service-33/
END:VEVENT
BEGIN:VEVENT
DTSTART;TZID=UTC:20250223T120000
DTEND;TZID=UTC:20250223T140000
DTSTAMP:20260425T173617
CREATED:20250221T010350Z
LAST-MODIFIED:20250221T010350Z
UID:1966-1740312000-1740319200@heavenboundbaptistchurch.com
SUMMARY:Chili/Soup Cook Off
DESCRIPTION:
URL:https://heavenboundbaptistchurch.com/event/chili-soup-cook-off/
END:VEVENT
BEGIN:VEVENT
DTSTART;TZID=UTC:20250226T180000
DTEND;TZID=UTC:20250226T193000
DTSTAMP:20260425T173617
CREATED:20250221T010259Z
LAST-MODIFIED:20250221T010259Z
UID:1964-1740592800-1740598200@heavenboundbaptistchurch.com
SUMMARY:Potluck/Bible Study
DESCRIPTION:
URL:https://heavenboundbaptistchurch.com/event/potluck-bible-study-11/
END:VEVENT
END:VCALENDAR